BEGIN:VCALENDAR
VERSION:2.0
PRODID:-//Beta //NONSGML Events //EN
CALSCALE:GREGORIAN
X-WR-CALNAME:Beta
BEGIN:VEVENT
CREATED:20251103T105555Z
UID:13550
DTSTART;VALUE=DATE-TIME:20251127T163000
DTEND;VALUE=DATE-TIME:20251127T180000
LOCATION:Amphi G\, Campus AgroParisTech Nancy\, 14 rue Girardet
DESCRIPTION:Séminaire doctorants – Edith Kouakou
SUMMARY:Séminaire doctorants – Edith Kouakou
ORGANIZER:
URL;VALUE=URI:https://www.beta-economics.fr/evenements/seminaire-doctorants-edith-kouakou/
TRANSP:OPAQUE
END:VEVENT


END:VCALENDAR
