BEGIN:VCALENDAR
VERSION:2.0
PRODID:-//Beta //NONSGML Events //EN
CALSCALE:GREGORIAN
X-WR-CALNAME:Beta
BEGIN:VEVENT
CREATED:20251212T080408Z
UID:13879
DTSTART;VALUE=DATE-TIME:20251216T110000
DTEND;VALUE=DATE-TIME:20251216T123000
LOCATION:Campus AgroParisTech\, 14 rue Girardet\, Nancy
DESCRIPTION:Séminaire NANCY – Zéphirin NGANMENI (Université Paris 8)
SUMMARY:Séminaire NANCY – Zéphirin NGANMENI (Université Paris 8)
ORGANIZER:
URL;VALUE=URI:https://www.beta-economics.fr/evenements/seminaire-nancy-zephirin-nganmeni-universite-paris-8/
TRANSP:OPAQUE
END:VEVENT


END:VCALENDAR
