BEGIN:VCALENDAR
VERSION:2.0
PRODID:-//Beta //NONSGML Events //EN
CALSCALE:GREGORIAN
X-WR-CALNAME:Beta
BEGIN:VEVENT
CREATED:20260413T093617Z
UID:14582
DTSTART;VALUE=DATE-TIME:20260522T140000
DTEND;VALUE=DATE-TIME:20260522T153000
LOCATION:Salle EHUD // Online
DESCRIPTION:Séminaire Cournot – Svitlana Vyetrenko (J. P. Morgan AI Research / Chaire Gutenberg)
SUMMARY:Séminaire Cournot – Svitlana Vyetrenko (J. P. Morgan AI Research / Chaire Gutenberg)
ORGANIZER:
URL;VALUE=URI:https://www.beta-economics.fr/evenements/seminaire-cournot-svitlana-vyetrenko-j-p-morgan-ai-research-chaire-gutenberg/
TRANSP:OPAQUE
END:VEVENT


END:VCALENDAR
