BEGIN:VCALENDAR
VERSION:2.0
PRODID:-//Beta //NONSGML Events //EN
CALSCALE:GREGORIAN
X-WR-CALNAME:Beta
BEGIN:VEVENT
CREATED:20211021T112517Z
UID:3615
DTSTART;VALUE=DATE-TIME:20211210T140000
DTEND;VALUE=DATE-TIME:20211210T153000
LOCATION:PEGE - Salle du Conseil - 61\, avenue de la Forêt Noire  à Strasbourg
DESCRIPTION:Séminaire COURNOT – Mario PIANTA (Scuola Normale Superiore di Pisa)
SUMMARY:Séminaire COURNOT – Mario PIANTA (Scuola Normale Superiore di Pisa)
ORGANIZER:
URL;VALUE=URI:https://www.beta-economics.fr/evenements/seminaire-cournot-mario-pianta-scuola-normale-superiore-di-pisa/
TRANSP:OPAQUE
END:VEVENT


END:VCALENDAR
