BEGIN:VCALENDAR
VERSION:2.0
PRODID:-//Beta //NONSGML Events //EN
CALSCALE:GREGORIAN
X-WR-CALNAME:Beta
BEGIN:VEVENT
CREATED:20220106T080955Z
UID:4059
DTSTART;VALUE=DATE-TIME:20220121T140000
DTEND;VALUE=DATE-TIME:20220121T153000
LOCATION:En ligne
DESCRIPTION:Séminaire COURNOT – Shekar Thomar (Indian School of Business)
SUMMARY:Séminaire COURNOT – Shekar Thomar (Indian School of Business)
ORGANIZER:
URL;VALUE=URI:https://www.beta-economics.fr/evenements/seminaire-cournot-shekar-thomar-indian-school-of-business/
TRANSP:OPAQUE
END:VEVENT


END:VCALENDAR
