BEGIN:VCALENDAR
VERSION:2.0
PRODID:-//Beta //NONSGML Events //EN
CALSCALE:GREGORIAN
X-WR-CALNAME:Beta
BEGIN:VEVENT
CREATED:20220106T124538Z
UID:4068
DTSTART;VALUE=DATE-TIME:20220128T140000
DTEND;VALUE=DATE-TIME:20220128T153000
LOCATION:En ligne
DESCRIPTION:Séminaire COURNOT – Béatrice Boulu-Reshef (Université d’Orléans)
SUMMARY:Séminaire COURNOT – Béatrice Boulu-Reshef (Université d’Orléans)
ORGANIZER:
URL;VALUE=URI:https://www.beta-economics.fr/evenements/seminaire-cournot-beatrice-boulu-reshef-universite-dorleans/
TRANSP:OPAQUE
END:VEVENT


END:VCALENDAR
