BEGIN:VCALENDAR
VERSION:2.0
PRODID:-//Beta //NONSGML Events //EN
CALSCALE:GREGORIAN
X-WR-CALNAME:Beta
BEGIN:VEVENT
CREATED:20220107T092633Z
UID:4070
DTSTART;VALUE=DATE-TIME:20220325T140000
DTEND;VALUE=DATE-TIME:20220325T153000
LOCATION:En ligne
DESCRIPTION:Séminaire COURNOT – Rustam ROMANIUC (Montpellier Business School)
SUMMARY:Séminaire COURNOT – Rustam ROMANIUC (Montpellier Business School)
ORGANIZER:
URL;VALUE=URI:https://www.beta-economics.fr/evenements/seminaire-cournot-rustam-romaniuc/
TRANSP:OPAQUE
END:VEVENT


END:VCALENDAR
