BEGIN:VCALENDAR
VERSION:2.0
PRODID:-//Beta //NONSGML Events //EN
CALSCALE:GREGORIAN
X-WR-CALNAME:Beta
BEGIN:VEVENT
CREATED:20220113T080352Z
UID:4113
DTSTART;VALUE=DATE:20220531
DTEND;VALUE=DATE:20220602
LOCATION:AgroParisTech - 14 rue Girardet - Nancy\, France
DESCRIPTION:IUFRO Division 4.04.07 Risk analysis
SUMMARY:IUFRO Division 4.04.07 Risk analysis
ORGANIZER:
URL;VALUE=URI:https://www.beta-economics.fr/evenements/iufro-division-4-04-07-risk-analysis/
TRANSP:OPAQUE
END:VEVENT


END:VCALENDAR
