BEGIN:VCALENDAR
VERSION:2.0
PRODID:-//Beta //NONSGML Events //EN
CALSCALE:GREGORIAN
X-WR-CALNAME:Beta
BEGIN:VEVENT
CREATED:20220301T075211Z
UID:4139
DTSTART;VALUE=DATE-TIME:20220311T140000
DTEND;VALUE=DATE-TIME:20220311T153000
LOCATION:61 Avenue de la Forêt Noire
DESCRIPTION:Séminaire COURNOT – Jérôme WITTWER (University of Bordeaux)
SUMMARY:Séminaire COURNOT – Jérôme WITTWER (University of Bordeaux)
ORGANIZER:
URL;VALUE=URI:https://www.beta-economics.fr/evenements/seminaire-cournot-jerome-wittwer/
TRANSP:OPAQUE
END:VEVENT


END:VCALENDAR
