BEGIN:VCALENDAR
VERSION:2.0
PRODID:-//Beta //NONSGML Events //EN
CALSCALE:GREGORIAN
X-WR-CALNAME:Beta
BEGIN:VEVENT
CREATED:20220203T065134Z
UID:4213
DTSTART;VALUE=DATE-TIME:20220225T140000
DTEND;VALUE=DATE-TIME:20220225T153000
LOCATION:En ligne sur ZOOM
DESCRIPTION:Séminaire COURNOT – Gilles SAINT-PAUL (Paris School of Economics)
SUMMARY:Séminaire COURNOT – Gilles SAINT-PAUL (Paris School of Economics)
ORGANIZER:
URL;VALUE=URI:https://www.beta-economics.fr/evenements/seminaire-cournot-gilles-saint-paul/
TRANSP:OPAQUE
END:VEVENT


END:VCALENDAR
