BEGIN:VCALENDAR
VERSION:2.0
PRODID:-//Beta //NONSGML Events //EN
CALSCALE:GREGORIAN
X-WR-CALNAME:Beta
BEGIN:VEVENT
CREATED:20220221T131949Z
UID:4304
DTSTART;VALUE=DATE-TIME:20220304T140000
DTEND;VALUE=DATE-TIME:20220304T153000
LOCATION:61 Avenue de la Forêt Noire
DESCRIPTION:Séminaire COURNOT – Thomas SEEGMULLER (Aix-Marseille School of Economics)
SUMMARY:Séminaire COURNOT – Thomas SEEGMULLER (Aix-Marseille School of Economics)
ORGANIZER:
URL;VALUE=URI:https://www.beta-economics.fr/evenements/seminaire-cournot-thomas-seegmuller/
TRANSP:OPAQUE
END:VEVENT


END:VCALENDAR
