BEGIN:VCALENDAR
VERSION:2.0
PRODID:-//Beta //NONSGML Events //EN
CALSCALE:GREGORIAN
X-WR-CALNAME:Beta
BEGIN:VEVENT
CREATED:20220223T105821Z
UID:4325
DTSTART;VALUE=DATE:20220511
DTEND;VALUE=DATE:20220512
LOCATION:Metz
DESCRIPTION:Conférence annuelle de la chaire Ressources Naturelles et Economie Locale
SUMMARY:Conférence annuelle de la chaire Ressources Naturelles et Economie Locale
ORGANIZER:
URL;VALUE=URI:https://www.beta-economics.fr/evenements/conference-annuelle-de-la-chaire-ressources-naturelles-et-economie-locale/
TRANSP:OPAQUE
END:VEVENT


END:VCALENDAR
