BEGIN:VCALENDAR
VERSION:2.0
PRODID:-//Beta //NONSGML Events //EN
CALSCALE:GREGORIAN
X-WR-CALNAME:Beta
BEGIN:VEVENT
CREATED:20220223T142253Z
UID:4333
DTSTART;VALUE=DATE-TIME:20220316T093000
DTEND;VALUE=DATE-TIME:20220316T173000
LOCATION:Salle de conférence\, Maison Interuniverstaire des Sciences de l’Homme Alsace (MISHA)\, Strasbourg
DESCRIPTION:Journée d’étude “50 ans du BETA” – Aide informelle et vies de famille
SUMMARY:Journée d’étude “50 ans du BETA” – Aide informelle et vies de famille
ORGANIZER:
URL;VALUE=URI:https://www.beta-economics.fr/evenements/journee-detude-50-ans-du-beta-aide-informelle-et-vies-de-famille/
TRANSP:OPAQUE
END:VEVENT


END:VCALENDAR
