BEGIN:VCALENDAR
VERSION:2.0
PRODID:-//Beta //NONSGML Events //EN
CALSCALE:GREGORIAN
X-WR-CALNAME:Beta
BEGIN:VEVENT
CREATED:20220304T081951Z
UID:4420
DTSTART;VALUE=DATE:20220629
DTEND;VALUE=DATE:20220701
LOCATION:Faculté de Sciences Economiques et de Gestion\, 61 avenue de la Forêt Noire\, 67000 Strasbourg
DESCRIPTION:6ème Conférence Internationale IEEE sur la Gestion des Opérations Logistiques (GOL)
SUMMARY:6ème Conférence Internationale IEEE sur la Gestion des Opérations Logistiques (GOL)
ORGANIZER:
URL;VALUE=URI:https://www.beta-economics.fr/evenements/6eme-conference-internationale-ieee-sur-la-gestion-des-operations-logistiques-gol/
TRANSP:OPAQUE
END:VEVENT


END:VCALENDAR
