BEGIN:VCALENDAR
VERSION:2.0
PRODID:-//Beta //NONSGML Events //EN
CALSCALE:GREGORIAN
X-WR-CALNAME:Beta
BEGIN:VEVENT
CREATED:20220317T150804Z
UID:4748
DTSTART;VALUE=DATE-TIME:20220511T100000
DTEND;VALUE=DATE-TIME:20220511T120000
LOCATION:Amphi 1 - Faculté de Droit\, Economie et Administration de Metz - Campus du Saulcy - 57000 Metz
DESCRIPTION:Conférence grand public de la Chaire RENEL
SUMMARY:Conférence grand public de la Chaire RENEL
ORGANIZER:
URL;VALUE=URI:https://www.beta-economics.fr/evenements/conference-grand-public-de-la-chaire-renel/
TRANSP:OPAQUE
END:VEVENT


END:VCALENDAR
