BEGIN:VCALENDAR
VERSION:2.0
PRODID:-//Beta //NONSGML Events //EN
CALSCALE:GREGORIAN
X-WR-CALNAME:Beta
BEGIN:VEVENT
CREATED:20220325T142724Z
UID:4824
DTSTART;VALUE=DATE-TIME:20220405T180000
DTEND;VALUE=DATE-TIME:20220405T200000
LOCATION:Faculté des sciences économiques et de gestion- Amphi Commun  - 61\, avenue de la Forêt Noire  à Strasbourg
DESCRIPTION:Les soirées de l’économie
SUMMARY:Les soirées de l’économie
ORGANIZER:
URL;VALUE=URI:https://www.beta-economics.fr/evenements/les-soirees-de-leconomie-3/
TRANSP:OPAQUE
END:VEVENT


END:VCALENDAR
