BEGIN:VCALENDAR
VERSION:2.0
PRODID:-//Beta //NONSGML Events //EN
CALSCALE:GREGORIAN
X-WR-CALNAME:Beta
BEGIN:VEVENT
CREATED:20220330T115453Z
UID:4886
DTSTART;VALUE=DATE:20220407
DTEND;VALUE=DATE:20220408
LOCATION:Maison de la Recherche\, 23 rue Baron Louis
DESCRIPTION:Groupe de travail interdisciplinaire – Aux frontières Monnaie / Finance
SUMMARY:Groupe de travail interdisciplinaire – Aux frontières Monnaie / Finance
ORGANIZER:
URL;VALUE=URI:https://www.beta-economics.fr/evenements/groupe-de-travail-interdisciplinaire-aux-frontieres-monnaie-finance/
TRANSP:OPAQUE
END:VEVENT


END:VCALENDAR
