BEGIN:VCALENDAR
VERSION:2.0
PRODID:-//Beta //NONSGML Events //EN
CALSCALE:GREGORIAN
X-WR-CALNAME:Beta
BEGIN:VEVENT
CREATED:20220425T080921Z
UID:5142
DTSTART;VALUE=DATE-TIME:20220429T140000
DTEND;VALUE=DATE-TIME:20220429T153000
LOCATION:61 Avenue de la Forêt Noire
DESCRIPTION:Séminaire COURNOT – Alain Trannoy (EHESS / AMSE)
SUMMARY:Séminaire COURNOT – Alain Trannoy (EHESS / AMSE)
ORGANIZER:
URL;VALUE=URI:https://www.beta-economics.fr/evenements/seminaire-cournot-alain-trannoy/
TRANSP:OPAQUE
END:VEVENT


END:VCALENDAR
