BEGIN:VCALENDAR
VERSION:2.0
PRODID:-//Beta //NONSGML Events //EN
CALSCALE:GREGORIAN
X-WR-CALNAME:Beta
BEGIN:VEVENT
CREATED:20220503T072519Z
UID:5302
DTSTART;VALUE=DATE-TIME:20220506T140000
DTEND;VALUE=DATE-TIME:20220506T153000
LOCATION:61 Avenue de la Forêt Noire
DESCRIPTION:Séminaire COURNOT – Federico PERALI (Université de Vérone)
SUMMARY:Séminaire COURNOT – Federico PERALI (Université de Vérone)
ORGANIZER:
URL;VALUE=URI:https://www.beta-economics.fr/evenements/seminaire-cournot-federico-perali/
TRANSP:OPAQUE
END:VEVENT


END:VCALENDAR
