BEGIN:VCALENDAR
VERSION:2.0
PRODID:-//Beta //NONSGML Events //EN
CALSCALE:GREGORIAN
X-WR-CALNAME:Beta
BEGIN:VEVENT
CREATED:20220510T060238Z
UID:5335
DTSTART;VALUE=DATE-TIME:20220513T140000
DTEND;VALUE=DATE-TIME:20220513T153000
LOCATION:61 Avenue de la Forêt Noire
DESCRIPTION:Séminaire COURNOT – Christophe CHAMLEY (PSE / Boston University)
SUMMARY:Séminaire COURNOT – Christophe CHAMLEY (PSE / Boston University)
ORGANIZER:
URL;VALUE=URI:https://www.beta-economics.fr/evenements/seminaire-cournot-christophe-chamley/
TRANSP:OPAQUE
END:VEVENT


END:VCALENDAR
