BEGIN:VCALENDAR
VERSION:2.0
PRODID:-//Beta //NONSGML Events //EN
CALSCALE:GREGORIAN
X-WR-CALNAME:Beta
BEGIN:VEVENT
CREATED:20220603T070736Z
UID:5534
DTSTART;VALUE=DATE-TIME:20220616T140000
DTEND;VALUE=DATE-TIME:20220616T170000
LOCATION:En ligne
DESCRIPTION:Soutenance de thèse de Catherine Mabenge Tshiabadala
SUMMARY:Soutenance de thèse de Catherine Mabenge Tshiabadala
ORGANIZER:
URL;VALUE=URI:https://www.beta-economics.fr/evenements/soutenance-de-these-de-catherine-mabenge-tshiabadala/
TRANSP:OPAQUE
END:VEVENT


END:VCALENDAR
