BEGIN:VCALENDAR
VERSION:2.0
PRODID:-//Beta //NONSGML Events //EN
CALSCALE:GREGORIAN
X-WR-CALNAME:Beta
BEGIN:VEVENT
CREATED:20220613T181142Z
UID:5589
DTSTART;VALUE=DATE-TIME:20220617T140000
DTEND;VALUE=DATE-TIME:20220617T153000
LOCATION:61 avenue de la Forêt Noire
DESCRIPTION:Séminaire COURNOT – Cristina BADARAU (University of Bordeaux)
SUMMARY:Séminaire COURNOT – Cristina BADARAU (University of Bordeaux)
ORGANIZER:
URL;VALUE=URI:https://www.beta-economics.fr/evenements/seminaire-cournot-cristina-badarau/
TRANSP:OPAQUE
END:VEVENT


END:VCALENDAR
