BEGIN:VCALENDAR
VERSION:2.0
PRODID:-//Beta //NONSGML Events //EN
CALSCALE:GREGORIAN
X-WR-CALNAME:Beta
BEGIN:VEVENT
CREATED:20220707T150116Z
UID:5685
DTSTART;VALUE=DATE:20221208
DTEND;VALUE=DATE:20221209
LOCATION:Université de Strasbourg
DESCRIPTION:Le genre et la sexualité dans le jeu : jeux de rôles, imaginaires et possibles
SUMMARY:Le genre et la sexualité dans le jeu : jeux de rôles, imaginaires et possibles
ORGANIZER:
URL;VALUE=URI:https://www.beta-economics.fr/evenements/le-genre-et-la-sexualite-dans-le-jeu-jeux-de-roles-imaginaires-et-possibles/
TRANSP:OPAQUE
END:VEVENT


END:VCALENDAR
