BEGIN:VCALENDAR
VERSION:2.0
PRODID:-//Beta //NONSGML Events //EN
CALSCALE:GREGORIAN
X-WR-CALNAME:Beta
BEGIN:VEVENT
CREATED:20220824T111431Z
UID:5790
DTSTART;VALUE=DATE:20221107
DTEND;VALUE=DATE:20221111
LOCATION:Strasbourg
DESCRIPTION:Ecole d’Automne en Management de la Créativité – CreaSXB 2022
SUMMARY:Ecole d’Automne en Management de la Créativité – CreaSXB 2022
ORGANIZER:
URL;VALUE=URI:https://www.beta-economics.fr/evenements/ecole-automne-management-creativite-2022/
TRANSP:OPAQUE
END:VEVENT


END:VCALENDAR
