BEGIN:VCALENDAR
VERSION:2.0
PRODID:-//Beta //NONSGML Events //EN
CALSCALE:GREGORIAN
X-WR-CALNAME:Beta
BEGIN:VEVENT
CREATED:20220830T055809Z
UID:5808
DTSTART;VALUE=DATE-TIME:20220915T083000
DTEND;VALUE=DATE-TIME:20220915T093000
LOCATION:Faculté des sciences économiques et de gestion - 61\, avenue de la Forêt Noire  à Strasbourg (en ligne)
DESCRIPTION:3e rendez-vous  :  AC:TIONS – Capsule Innovation «  Les processus d’innovation »
SUMMARY:3e rendez-vous  :  AC:TIONS – Capsule Innovation «  Les processus d’innovation »
ORGANIZER:
URL;VALUE=URI:https://www.beta-economics.fr/evenements/3e-rendez-vous-actions-capsule-innovation-les-processus-dinnovation/
TRANSP:OPAQUE
END:VEVENT


END:VCALENDAR
