BEGIN:VCALENDAR
VERSION:2.0
PRODID:-//Beta //NONSGML Events //EN
CALSCALE:GREGORIAN
X-WR-CALNAME:Beta
BEGIN:VEVENT
CREATED:20220825T065543Z
UID:5809
DTSTART;VALUE=DATE:20220826
DTEND;VALUE=DATE:20220828
LOCATION:Suse (Italie)
DESCRIPTION:10ème école d’été d’histoire économique
SUMMARY:10ème école d’été d’histoire économique
ORGANIZER:
URL;VALUE=URI:https://www.beta-economics.fr/evenements/10eme-ecole-dete-dhistoire-economique/
TRANSP:OPAQUE
END:VEVENT


END:VCALENDAR
