BEGIN:VCALENDAR
VERSION:2.0
PRODID:-//Beta //NONSGML Events //EN
CALSCALE:GREGORIAN
X-WR-CALNAME:Beta
BEGIN:VEVENT
CREATED:20220908T025842Z
UID:5879
DTSTART;VALUE=DATE-TIME:20221209T140000
DTEND;VALUE=DATE-TIME:20221209T153000
LOCATION:61 avenue de la Forêt Noire
DESCRIPTION:Séminaire COURNOT – Ekrame Boubtane (Université Clermont Auvergne)
SUMMARY:Séminaire COURNOT – Ekrame Boubtane (Université Clermont Auvergne)
ORGANIZER:
URL;VALUE=URI:https://www.beta-economics.fr/evenements/seminaire-cournot-ekrame-boubtane-universite-clermont-auvergne/
TRANSP:OPAQUE
END:VEVENT


END:VCALENDAR
