BEGIN:VCALENDAR
VERSION:2.0
PRODID:-//Beta //NONSGML Events //EN
CALSCALE:GREGORIAN
X-WR-CALNAME:Beta
BEGIN:VEVENT
CREATED:20220919T091316Z
UID:5959
DTSTART;VALUE=DATE-TIME:20221006T180000
DTEND;VALUE=DATE-TIME:20221006T200000
LOCATION:Faculté des sciences économiques et de gestion - Amphi 4 - 61\, avenue de la Forêt Noire à Strasbourg
DESCRIPTION:Les soirées de l’économie
SUMMARY:Les soirées de l’économie
ORGANIZER:
URL;VALUE=URI:https://www.beta-economics.fr/evenements/les-soirees-de-leconomie-4/
TRANSP:OPAQUE
END:VEVENT


END:VCALENDAR
