BEGIN:VCALENDAR
VERSION:2.0
PRODID:-//Beta //NONSGML Events //EN
CALSCALE:GREGORIAN
X-WR-CALNAME:Beta
BEGIN:VEVENT
CREATED:20221011T144426Z
UID:6054
DTSTART;VALUE=DATE-TIME:20221122T110000
DTEND;VALUE=DATE-TIME:20221122T120000
LOCATION:23 rue Baron Louis\, 54000 Nancy
DESCRIPTION:Séminaire Nancy – François Bareille (INRAE)
SUMMARY:Séminaire Nancy – François Bareille (INRAE)
ORGANIZER:
URL;VALUE=URI:https://www.beta-economics.fr/evenements/seminaire-nancy-francois-bareille-inrae/
TRANSP:OPAQUE
END:VEVENT


END:VCALENDAR
