BEGIN:VCALENDAR
VERSION:2.0
PRODID:-//Beta //NONSGML Events //EN
CALSCALE:GREGORIAN
X-WR-CALNAME:Beta
BEGIN:VEVENT
CREATED:20221231T123524Z
UID:6532
DTSTART;VALUE=DATE-TIME:20230203T140000
DTEND;VALUE=DATE-TIME:20230203T153000
LOCATION:61 avenue de la Forêt Noire
DESCRIPTION:Séminaire COURNOT – Benoît Walraevens (CREM, Université de Caen)
SUMMARY:Séminaire COURNOT – Benoît Walraevens (CREM, Université de Caen)
ORGANIZER:
URL;VALUE=URI:https://www.beta-economics.fr/evenements/seminaire-cournot-benoit-walraevens/
TRANSP:OPAQUE
END:VEVENT


END:VCALENDAR
