BEGIN:VCALENDAR
VERSION:2.0
PRODID:-//Beta //NONSGML Events //EN
CALSCALE:GREGORIAN
X-WR-CALNAME:Beta
BEGIN:VEVENT
CREATED:20230106T073858Z
UID:6565
DTSTART;VALUE=DATE-TIME:20230119T140000
DTEND;VALUE=DATE-TIME:20230119T153000
LOCATION:61 avenue de la Forêt Noire
DESCRIPTION:Séminaire COURNOT – Hubert Kempf (ENS Paris Saclay)
SUMMARY:Séminaire COURNOT – Hubert Kempf (ENS Paris Saclay)
ORGANIZER:
URL;VALUE=URI:https://www.beta-economics.fr/evenements/seminaire-cournot-hubert-kempf/
TRANSP:OPAQUE
END:VEVENT


END:VCALENDAR
