BEGIN:VCALENDAR
VERSION:2.0
PRODID:-//Beta //NONSGML Events //EN
CALSCALE:GREGORIAN
X-WR-CALNAME:Beta
BEGIN:VEVENT
CREATED:20230314T151059Z
UID:6959
DTSTART;VALUE=DATE-TIME:20230214T120000
DTEND;VALUE=DATE-TIME:20230214T140000
LOCATION:Campus Unistra
DESCRIPTION:Séminaire ERMEES – Sofiene OMRI
SUMMARY:Séminaire ERMEES – Sofiene OMRI
ORGANIZER:
URL;VALUE=URI:https://www.beta-economics.fr/evenements/seminaire-ermees-sofiene-omri-march-2023/
TRANSP:OPAQUE
END:VEVENT


END:VCALENDAR
