BEGIN:VCALENDAR
VERSION:2.0
PRODID:-//Beta //NONSGML Events //EN
CALSCALE:GREGORIAN
X-WR-CALNAME:Beta
BEGIN:VEVENT
CREATED:20231109T105627Z
UID:8787
DTSTART;VALUE=DATE-TIME:20231130T140000
DTEND;VALUE=DATE-TIME:20231130T153000
LOCATION:Salle du Conseil // En ligne : lien zoom 
DESCRIPTION:Séminaire Cournot – Elodie BERTRAND (ISJPS, Université Paris 1 & CNRS)
SUMMARY:Séminaire Cournot – Elodie BERTRAND (ISJPS, Université Paris 1 & CNRS)
ORGANIZER:
URL;VALUE=URI:https://www.beta-economics.fr/evenements/seminaire-cournot-elodie-bertrand-isjps-universite-paris-1-cnrs/
TRANSP:OPAQUE
END:VEVENT


END:VCALENDAR
