BEGIN:VCALENDAR
VERSION:2.0
PRODID:-//Beta //NONSGML Events //EN
CALSCALE:GREGORIAN
X-WR-CALNAME:Beta
BEGIN:VEVENT
CREATED:20231109T105858Z
UID:8789
DTSTART;VALUE=DATE-TIME:20231215T140000
DTEND;VALUE=DATE-TIME:20231215T153000
LOCATION:Salle du Conseil   // En ligne : lien zoom 
DESCRIPTION:Séminaire Cournot – Jan DITZEN (U. of Bolzano)
SUMMARY:Séminaire Cournot – Jan DITZEN (U. of Bolzano)
ORGANIZER:
URL;VALUE=URI:https://www.beta-economics.fr/evenements/seminaire-cournot-jan-ditzen-u-of-bolzano/
TRANSP:OPAQUE
END:VEVENT


END:VCALENDAR
