BEGIN:VCALENDAR
VERSION:2.0
PRODID:-//Beta //NONSGML Events //EN
CALSCALE:GREGORIAN
X-WR-CALNAME:Beta
BEGIN:VEVENT
CREATED:20240124T173716Z
UID:9303
DTSTART;VALUE=DATE-TIME:20240207T093000
DTEND;VALUE=DATE-TIME:20240207T173000
LOCATION:PEGE\, Salle du Conseil
DESCRIPTION:Workshop – Regards croisés sur les questions de genre en économie
SUMMARY:Workshop – Regards croisés sur les questions de genre en économie
ORGANIZER:
URL;VALUE=URI:https://www.beta-economics.fr/evenements/regards-croises-sur-les-questions-de-genre-en-economie/
TRANSP:OPAQUE
END:VEVENT


END:VCALENDAR
