BEGIN:VCALENDAR
VERSION:2.0
PRODID:-//Beta //NONSGML Events //EN
CALSCALE:GREGORIAN
X-WR-CALNAME:Beta
BEGIN:VEVENT
CREATED:20240130T151307Z
UID:9377
DTSTART;VALUE=DATE-TIME:20240206T143000
DTEND;VALUE=DATE-TIME:20240206T173000
LOCATION:Salle 205 à la Faculté des Sciences Économiques et de Gestion\, 61 Avenue de la Forêt Noire\, 67000\, Strasbourg
DESCRIPTION:Soutenance d’HDR de Claude GUITTARD
SUMMARY:Soutenance d’HDR de Claude GUITTARD
ORGANIZER:
URL;VALUE=URI:https://www.beta-economics.fr/evenements/soutenance-dhdr-de-claude-guittard/
TRANSP:OPAQUE
END:VEVENT


END:VCALENDAR
